BEGIN:VCALENDAR
VERSION:2.0
PRODID:-//District 2 - Supervisor Jeff Gorell - ECPv6.15.20//NONSGML v1.0//EN
CALSCALE:GREGORIAN
METHOD:PUBLISH
X-WR-CALNAME:District 2 - Supervisor Jeff Gorell
X-ORIGINAL-URL:https://supervisorgorell.venturacounty.gov
X-WR-CALDESC:Events for District 2 - Supervisor Jeff Gorell
REFRESH-INTERVAL;VALUE=DURATION:PT1H
X-Robots-Tag:noindex
X-PUBLISHED-TTL:PT1H
BEGIN:VTIMEZONE
TZID:America/Los_Angeles
BEGIN:DAYLIGHT
TZOFFSETFROM:-0800
TZOFFSETTO:-0700
TZNAME:PDT
DTSTART:20250309T100000
END:DAYLIGHT
BEGIN:STANDARD
TZOFFSETFROM:-0700
TZOFFSETTO:-0800
TZNAME:PST
DTSTART:20251102T090000
END:STANDARD
BEGIN:DAYLIGHT
TZOFFSETFROM:-0800
TZOFFSETTO:-0700
TZNAME:PDT
DTSTART:20260308T100000
END:DAYLIGHT
BEGIN:STANDARD
TZOFFSETFROM:-0700
TZOFFSETTO:-0800
TZNAME:PST
DTSTART:20261101T090000
END:STANDARD
BEGIN:DAYLIGHT
TZOFFSETFROM:-0800
TZOFFSETTO:-0700
TZNAME:PDT
DTSTART:20270314T100000
END:DAYLIGHT
BEGIN:STANDARD
TZOFFSETFROM:-0700
TZOFFSETTO:-0800
TZNAME:PST
DTSTART:20271107T090000
END:STANDARD
END:VTIMEZONE
BEGIN:VEVENT
DTSTART;TZID=America/Los_Angeles:20260424T110000
DTEND;TZID=America/Los_Angeles:20260424T130000
DTSTAMP:20260424T072240
CREATED:20260311T214530Z
LAST-MODIFIED:20260415T213921Z
UID:1456-1777028400-1777035600@supervisorgorell.venturacounty.gov
SUMMARY:Supervisor Gorell Sidewalk Office Hours - April 24
DESCRIPTION:
URL:https://supervisorgorell.venturacounty.gov/event/supervisor-gorell-sidewalk-office-hours-april-24/
LOCATION:Goebel Adult Center\, 1385 E. Janss Rd.\, Thousand Oaks\, CA\, 91362
END:VEVENT
END:VCALENDAR